BEGIN:VCALENDAR
VERSION:2.0
PRODID:-//Mortdale RSL - ECPv4.7.4//NONSGML v1.0//EN
CALSCALE:GREGORIAN
METHOD:PUBLISH
X-WR-CALNAME:Mortdale RSL
X-ORIGINAL-URL:http://mortdalersl.com.au
X-WR-CALDESC:Events for Mortdale RSL
BEGIN:VEVENT
DTSTART;TZID=Australia/Sydney:20190316T193000
DTEND;TZID=Australia/Sydney:20190316T223000
DTSTAMP:20190227T132311
CREATED:20190109T062508Z
LAST-MODIFIED:20190122T233502Z
UID:5837-1552764600-1552775400@mortdalersl.com.au
SUMMARY:The Beatnix
DESCRIPTION:Members $20 • Visitors $25 \nLimited Seating Book Now \n
URL:http://mortdalersl.com.au/event/the-beatnix/
CATEGORIES:Featured,Ticketed Events
ATTACH;FMTTYPE=image/jpeg:http://mortdalersl.com.au/content/uploads/2019/01/Beatnix.jpg
END:VEVENT
END:VCALENDAR