BEGIN:VCALENDAR
VERSION:2.0
PRODID:-//Mortdale RSL - ECPv4.7.4//NONSGML v1.0//EN
CALSCALE:GREGORIAN
METHOD:PUBLISH
X-WR-CALNAME:Mortdale RSL
X-ORIGINAL-URL:http://mortdalersl.com.au
X-WR-CALDESC:Events for Mortdale RSL
BEGIN:VEVENT
DTSTART;TZID=UTC+10:20190302T140000
DTEND;TZID=UTC+10:20190302T173000
DTSTAMP:20190227T132511
CREATED:20171112T234222Z
LAST-MODIFIED:20171112T234222Z
UID:4157-1551535200-1551547800@mortdalersl.com.au
SUMMARY:Punters Paradise Happy Hour
DESCRIPTION:$4.40 Schooners* \n
URL:http://mortdalersl.com.au/event/punters-paradise-happy-hour/2019-03-02/
CATEGORIES:Weekly Events
ATTACH;FMTTYPE=image/jpeg:http://mortdalersl.com.au/content/uploads/2017/11/Happy-Hour.jpg
END:VEVENT
END:VCALENDAR