BEGIN:VCALENDAR
VERSION:2.0
PRODID:-//Mortdale RSL - ECPv4.7.4//NONSGML v1.0//EN
CALSCALE:GREGORIAN
METHOD:PUBLISH
X-WR-CALNAME:Mortdale RSL
X-ORIGINAL-URL:http://mortdalersl.com.au
X-WR-CALDESC:Events for Mortdale RSL
BEGIN:VEVENT
DTSTART;TZID=UTC+10:20190228T173000
DTEND;TZID=UTC+10:20190228T183000
DTSTAMP:20190227T132416
CREATED:20171112T230731Z
LAST-MODIFIED:20171112T230731Z
UID:4090-1551375000-1551378600@mortdalersl.com.au
SUMMARY:Member's Happy Hour
DESCRIPTION:$4.60 Schooners* \n
URL:http://mortdalersl.com.au/event/members-happy-hour/2019-02-28/
CATEGORIES:Weekly Events
ATTACH;FMTTYPE=image/jpeg:http://mortdalersl.com.au/content/uploads/2017/11/Happy-Hour.jpg
END:VEVENT
END:VCALENDAR