BEGIN:VCALENDAR
VERSION:2.0
PRODID:-//Mortdale RSL - ECPv4.7.4//NONSGML v1.0//EN
CALSCALE:GREGORIAN
METHOD:PUBLISH
X-WR-CALNAME:Mortdale RSL
X-ORIGINAL-URL:http://mortdalersl.com.au
X-WR-CALDESC:Events for Mortdale RSL
BEGIN:VEVENT
DTSTART;TZID=UTC+10:20190305T183000
DTEND;TZID=UTC+10:20190305T193000
DTSTAMP:20190227T132521
CREATED:20171112T234635Z
LAST-MODIFIED:20171112T234635Z
UID:4210-1551810600-1551814200@mortdalersl.com.au
SUMMARY:Members Frequent User Draw
DESCRIPTION:Win from $50 to $500 cash \nEvery purchase from the Bar you will receive your ‘Frequent User/Spender Promotion” ticket. \nSimply place your ticket in the barrel. \nYou must be on the premises on Tuesday night to be eligible for the draw. \n
URL:http://mortdalersl.com.au/event/members-frequent-user-draw/2019-03-05/
CATEGORIES:Weekly Events
ATTACH;FMTTYPE=image/jpeg:http://mortdalersl.com.au/content/uploads/2017/11/Members-Frequent-User-Draw.jpg
END:VEVENT
END:VCALENDAR