BEGIN:VCALENDAR
VERSION:2.0
PRODID:-//Mortdale RSL - ECPv4.7.4//NONSGML v1.0//EN
CALSCALE:GREGORIAN
METHOD:PUBLISH
X-WR-CALNAME:Mortdale RSL
X-ORIGINAL-URL:http://mortdalersl.com.au
X-WR-CALDESC:Events for Mortdale RSL
BEGIN:VEVENT
DTSTART;TZID=UTC+10:20190228T180000
DTEND;TZID=UTC+10:20190228T200000
DTSTAMP:20190227T132429
CREATED:20171112T224740Z
LAST-MODIFIED:20171112T224740Z
UID:4089-1551376800-1551384000@mortdalersl.com.au
SUMMARY:Free Pool
DESCRIPTION:
URL:http://mortdalersl.com.au/event/free-pool/2019-02-28/
CATEGORIES:Weekly Events
ATTACH;FMTTYPE=image/jpeg:http://mortdalersl.com.au/content/uploads/2017/11/Pool.jpg
END:VEVENT
END:VCALENDAR