BEGIN:VCALENDAR
VERSION:2.0
PRODID:-//Mortdale RSL - ECPv4.7.4//NONSGML v1.0//EN
CALSCALE:GREGORIAN
METHOD:PUBLISH
X-WR-CALNAME:Mortdale RSL
X-ORIGINAL-URL:http://mortdalersl.com.au
X-WR-CALDESC:Events for Mortdale RSL
BEGIN:VEVENT
DTSTART;TZID=UTC+10:20190302T110000
DTEND;TZID=UTC+10:20190302T133000
DTSTAMP:20190227T132500
CREATED:20171112T233553Z
LAST-MODIFIED:20171112T233553Z
UID:4158-1551524400-1551533400@mortdalersl.com.au
SUMMARY:Bingo
DESCRIPTION:Mondays\, Fridays and Saturdays from 11am \n
URL:http://mortdalersl.com.au/event/bingo/2019-03-02/
CATEGORIES:Weekly Events
ATTACH;FMTTYPE=image/jpeg:http://mortdalersl.com.au/content/uploads/2017/11/Bingo.jpg
END:VEVENT
END:VCALENDAR