BEGIN:VCALENDAR
VERSION:2.0
PRODID:-//Mortdale RSL - ECPv4.7.4//NONSGML v1.0//EN
CALSCALE:GREGORIAN
METHOD:PUBLISH
X-WR-CALNAME:Mortdale RSL
X-ORIGINAL-URL:http://mortdalersl.com.au
X-WR-CALDESC:Events for Mortdale RSL
BEGIN:VEVENT
DTSTART;TZID=UTC+10:20180616T200000
DTEND;TZID=UTC+10:20180616T220000
DTSTAMP:20190227T131609
CREATED:20180508T235714Z
LAST-MODIFIED:20180604T042613Z
UID:1762-1529179200-1529186400@mortdalersl.com.au
SUMMARY:Beatnix - The Beatles Show
DESCRIPTION:SOLD OUT! \nDoors Open from 7.30pm \n
URL:http://mortdalersl.com.au/event/beatnix-the-beatles-show/
CATEGORIES:Featured,Ticketed Events
ATTACH;FMTTYPE=image/jpeg:http://mortdalersl.com.au/content/uploads/2018/05/Beatnix-Sold-Out.jpg
END:VEVENT
END:VCALENDAR